BEGIN:VCALENDAR
VERSION:2.0
PRODID:-//Yoga Andenne - ECPv4.6//NONSGML v1.0//EN
CALSCALE:GREGORIAN
METHOD:PUBLISH
X-WR-CALNAME:Yoga Andenne
X-ORIGINAL-URL:https://www.yoga-andenne.be
X-WR-CALDESC:Events for Yoga Andenne
BEGIN:VEVENT
DTSTART;TZID=UTC+1:20200613T100000
DTEND;TZID=UTC+1:20200613T120000
DTSTAMP:20260424T041421
CREATED:20200105T164344Z
LAST-MODIFIED:20200105T164346Z
UID:1419-1592042400-1592049600@www.yoga-andenne.be
SUMMARY:séance Shakti dance
DESCRIPTION:
URL:https://www.yoga-andenne.be/event/seance-shakti-dance-8/
END:VEVENT
END:VCALENDAR