BEGIN:VCALENDAR
VERSION:2.0
PRODID:-//Yoga Andenne - ECPv4.6//NONSGML v1.0//EN
CALSCALE:GREGORIAN
METHOD:PUBLISH
X-WR-CALNAME:Yoga Andenne
X-ORIGINAL-URL:https://www.yoga-andenne.be
X-WR-CALDESC:Events for Yoga Andenne
BEGIN:VEVENT
DTSTART;VALUE=DATE:20200701
DTEND;VALUE=DATE:20200909
DTSTAMP:20260425T165429
CREATED:20200815T113848Z
LAST-MODIFIED:20200815T113848Z
UID:1483-1593561600-1599695999@www.yoga-andenne.be
SUMMARY:Congés
DESCRIPTION:
URL:https://www.yoga-andenne.be/event/conges/
END:VEVENT
END:VCALENDAR